BEGIN:VCALENDAR
VERSION:2.0
PRODID:icalendar-ruby
CALSCALE:GREGORIAN
METHOD:PUBLISH
BEGIN:VEVENT
DTSTAMP:20260424T204128Z
UID:9-825067@northokcmethodist.church
DTSTART:20261004T160000Z
DTEND:20261004T170000Z
CLASS:PUBLIC
CREATED:20260424T125830
DESCRIPTION:Our Sunday Morning Small Group will meet after this morning’s
  worship service at approximately 11:00 a.m.
LAST-MODIFIED:20260424T125830
LOCATION:
SUMMARY:Sunday Morning Small Group
URL;VALUE=URI:https://www.northokcmethodist.church/events/sunday-morning-sm
 all-group/2026-10-04
END:VEVENT
END:VCALENDAR
