BEGIN:VCALENDAR
VERSION:2.0
PRODID:icalendar-ruby
CALSCALE:GREGORIAN
METHOD:PUBLISH
BEGIN:VEVENT
DTSTAMP:20260425T011653Z
UID:9-826476@northokcmethodist.church
DTSTART:20261025T160000Z
DTEND:20261025T170000Z
CLASS:PUBLIC
CREATED:20260424T183349
DESCRIPTION:Our Sunday Morning Small Group will meet after this morning’s
  worship service at approximately 11:00 a.m.
LAST-MODIFIED:20260424T183349
LOCATION:
SUMMARY:Sunday Morning Small Group
URL;VALUE=URI:https://www.northokcmethodist.church/events/sunday-morning-sm
 all-group/2026-10-25
END:VEVENT
END:VCALENDAR
