BEGIN:VCALENDAR
VERSION:2.0
PRODID:icalendar-ruby
CALSCALE:GREGORIAN
METHOD:PUBLISH
BEGIN:VEVENT
DTSTAMP:20260425T024226Z
UID:9-827180@northokcmethodist.church
DTSTART:20261101T170000Z
DTEND:20261101T180000Z
CLASS:PUBLIC
CREATED:20260424T212313
DESCRIPTION:Our Sunday Morning Small Group will meet after this morning’s
  worship service at approximately 11:00 a.m.
LAST-MODIFIED:20260424T212313
LOCATION:
SUMMARY:Sunday Morning Small Group
URL;VALUE=URI:https://www.northokcmethodist.church/events/sunday-morning-sm
 all-group/2026-11-01
END:VEVENT
END:VCALENDAR
