BEGIN:VCALENDAR
VERSION:2.0
PRODID:icalendar-ruby
CALSCALE:GREGORIAN
METHOD:PUBLISH
BEGIN:VEVENT
DTSTAMP:20260423T012720Z
UID:5-817923@northokcmethodist.church
DTSTART;VALUE=DATE:20261025
DTEND;VALUE=DATE:20261025
CLASS:PUBLIC
CREATED:20260422T185446
DESCRIPTION:Sunday Worship at 10 a.m.
LAST-MODIFIED:20260422T185446
LOCATION:13325 N. MacArthur Blvd. Oklahoma City\, OK 73142
SUMMARY:Sunday Worship at 10 a.m.
URL;VALUE=URI:https://www.northokcmethodist.church/events/sunday-worship-at
 -10-a-m/2026-10-25
ATTACH;FILENAME=20240214_191157.jpg;FMTTYPE=image/jpeg:https://dq5pwpg1q8ru
 0.cloudfront.net/2024/07/28/13/09/20/44fed1f7-71bb-4dd5-aa9e-250f6295652f/
 20240214_191157.jpg
END:VEVENT
END:VCALENDAR
