BEGIN:VCALENDAR
VERSION:2.0
PRODID:icalendar-ruby
CALSCALE:GREGORIAN
METHOD:PUBLISH
BEGIN:VEVENT
DTSTAMP:20260424T201921Z
UID:17-825390@northokcmethodist.church
DTSTART:20260930T233000Z
DTEND:20261001T003000Z
CLASS:PUBLIC
CREATED:20260424T125831
DESCRIPTION:The Youth Group will meet each Wednesday night at the church at
  6:30PM for a fun time of food\, fellowship\, and Bible study.\n 
LAST-MODIFIED:20260424T125831
LOCATION:
SUMMARY:Youth Group
URL;VALUE=URI:https://www.northokcmethodist.church/events/youth-group/2026-
 09-30
ATTACH;FILENAME=20250202_Youth-Group.jpg;FMTTYPE=image/jpeg:https://dq5pwpg
 1q8ru0.cloudfront.net/2025/02/14/19/40/25/c37055b3-ca03-419e-a823-1d36384d
 ba89/20250202_Youth-Group.jpg
END:VEVENT
END:VCALENDAR
