BEGIN:VCALENDAR
VERSION:2.0
PRODID:icalendar-ruby
CALSCALE:GREGORIAN
METHOD:PUBLISH
BEGIN:VEVENT
DTSTAMP:20260421T092751Z
UID:38-761238@northokcmethodist.church
DTSTART:20260418T140000Z
DTEND:20260418T170000Z
CLASS:PUBLIC
CREATED:20260409T100523
DESCRIPTION:
LAST-MODIFIED:20260409T100523
LOCATION:500 SE 15th St\, Oklahoma City\, OK 73129
SUMMARY:Youth to Skyline Urban Ministries
URL;VALUE=URI:https://www.northokcmethodist.church/events/youth-to-skyline-
 urban-ministries/2026-04-18
END:VEVENT
END:VCALENDAR
